Package: proDA Version: 1.25.0 Command: /home/biocbuild/bbs-3.23-bioc/R/bin/R CMD INSTALL proDA StartedAt: 2025-11-11 15:39:12 -0500 (Tue, 11 Nov 2025) EndedAt: 2025-11-11 15:39:33 -0500 (Tue, 11 Nov 2025) EllapsedTime: 21.7 seconds RetCode: 0 Status: OK