Package: proDA Version: 1.25.0 Command: /Library/Frameworks/R.framework/Resources/bin/R CMD INSTALL proDA StartedAt: 2025-11-13 15:20:50 -0500 (Thu, 13 Nov 2025) EndedAt: 2025-11-13 15:20:58 -0500 (Thu, 13 Nov 2025) EllapsedTime: 8.4 seconds RetCode: 0 Status: OK