Package: proDA Version: 1.25.0 Maintainer: Constantin Ahlmann-Eltze MaintainerEmail: artjom31415 at googlemail.com git_url: https://git.bioconductor.org/packages/proDA git_branch: devel git_last_commit: df3313e git_last_commit_date: 2025-10-29 10:53:21 -0500 (Wed, 29 Oct 2025)