Package: proBAMr Version: 1.45.0 Command: /home/biocbuild/bbs-3.23-bioc/R/bin/R CMD build --keep-empty-dirs --no-resave-data proBAMr StartedAt: 2025-11-14 19:21:33 -0500 (Fri, 14 Nov 2025) EndedAt: 2025-11-14 19:22:43 -0500 (Fri, 14 Nov 2025) EllapsedTime: 70.1 seconds RetCode: 0 Status: OK PackageFile: proBAMr_1.45.0.tar.gz PackageFileSize: 814.2 KiB