Package: proBAMr Version: 1.45.0 Command: /Library/Frameworks/R.framework/Resources/bin/R CMD INSTALL proBAMr StartedAt: 2025-11-12 15:39:05 -0500 (Wed, 12 Nov 2025) EndedAt: 2025-11-12 15:39:20 -0500 (Wed, 12 Nov 2025) EllapsedTime: 14.9 seconds RetCode: 0 Status: OK