Package: proBAMr Version: 1.45.0 Command: /Library/Frameworks/R.framework/Resources/bin/R CMD build --keep-empty-dirs --no-resave-data proBAMr StartedAt: 2025-11-13 17:22:26 -0500 (Thu, 13 Nov 2025) EndedAt: 2025-11-13 17:23:00 -0500 (Thu, 13 Nov 2025) EllapsedTime: 33.4 seconds RetCode: 0 Status: OK PackageFile: proBAMr_1.45.0.tar.gz PackageFileSize: 814.1 KiB