Package: proBAMr Version: 1.45.0 Command: rm -rf proBAMr.buildbin-libdir && mkdir proBAMr.buildbin-libdir && /Users/biocbuild/BBS/utils/build-universal.sh proBAMr_1.45.0.tar.gz /Library/Frameworks/R.framework/Resources/bin/R proBAMr.buildbin-libdir StartedAt: 2025-11-13 23:50:58 -0500 (Thu, 13 Nov 2025) EndedAt: 2025-11-13 23:51:15 -0500 (Thu, 13 Nov 2025) EllapsedTime: 17.3 seconds RetCode: 0 Status: OK PackageFile: proBAMr_1.45.0.tgz PackageFileSize: 524.9 KiB