Package: proActiv Version: 1.21.0 Command: /home/biocbuild/bbs-3.23-bioc/R/bin/R CMD INSTALL proActiv StartedAt: 2025-11-16 15:40:38 -0500 (Sun, 16 Nov 2025) EndedAt: 2025-11-16 15:41:19 -0500 (Sun, 16 Nov 2025) EllapsedTime: 41.4 seconds RetCode: 0 Status: OK