Package: proActiv Version: 1.21.0 Command: /home/biocbuild/bbs-3.23-bioc/R/bin/R CMD build --keep-empty-dirs --no-resave-data proActiv StartedAt: 2025-11-16 19:26:28 -0500 (Sun, 16 Nov 2025) EndedAt: 2025-11-16 19:27:31 -0500 (Sun, 16 Nov 2025) EllapsedTime: 62.0 seconds RetCode: 0 Status: OK PackageFile: proActiv_1.21.0.tar.gz PackageFileSize: 2.667 MiB