Package: proActiv Version: 1.21.0 Command: /Library/Frameworks/R.framework/Resources/bin/R CMD INSTALL proActiv StartedAt: 2025-11-14 15:20:55 -0500 (Fri, 14 Nov 2025) EndedAt: 2025-11-14 15:21:11 -0500 (Fri, 14 Nov 2025) EllapsedTime: 15.8 seconds RetCode: 0 Status: OK