Package: proActiv Version: 1.21.0 Command: /Library/Frameworks/R.framework/Resources/bin/R CMD build --keep-empty-dirs --no-resave-data proActiv StartedAt: 2025-11-14 17:19:28 -0500 (Fri, 14 Nov 2025) EndedAt: 2025-11-14 17:19:55 -0500 (Fri, 14 Nov 2025) EllapsedTime: 26.3 seconds RetCode: 0 Status: OK PackageFile: proActiv_1.21.0.tar.gz PackageFileSize: 2.682 MiB