Package: proActiv Version: 1.21.0 Command: rm -rf proActiv.buildbin-libdir && mkdir proActiv.buildbin-libdir && /Users/biocbuild/BBS/utils/build-universal.sh proActiv_1.21.0.tar.gz /Library/Frameworks/R.framework/Resources/bin/R proActiv.buildbin-libdir StartedAt: 2025-11-14 23:46:03 -0500 (Fri, 14 Nov 2025) EndedAt: 2025-11-14 23:46:23 -0500 (Fri, 14 Nov 2025) EllapsedTime: 20.4 seconds RetCode: 0 Status: OK PackageFile: proActiv_1.21.0.tgz PackageFileSize: 2.779 MiB