Package: proActiv Version: 1.21.0 Maintainer: Joseph Lee MaintainerEmail: joseph.lee at u.nus.edu git_url: https://git.bioconductor.org/packages/proActiv git_branch: devel git_last_commit: 8067867 git_last_commit_date: 2025-10-29 11:02:09 -0500 (Wed, 29 Oct 2025)