Package: primirTSS Version: 1.29.0 Command: /home/biocbuild/bbs-3.23-bioc/R/bin/R CMD INSTALL primirTSS StartedAt: 2025-11-14 15:52:45 -0500 (Fri, 14 Nov 2025) EndedAt: 2025-11-14 15:53:26 -0500 (Fri, 14 Nov 2025) EllapsedTime: 41.3 seconds RetCode: 0 Status: OK