Package: primirTSS Version: 1.29.0 Command: /home/biocbuild/bbs-3.23-bioc/R/bin/R CMD build --keep-empty-dirs --no-resave-data primirTSS StartedAt: 2025-11-14 19:20:31 -0500 (Fri, 14 Nov 2025) EndedAt: 2025-11-14 19:21:33 -0500 (Fri, 14 Nov 2025) EllapsedTime: 62.0 seconds RetCode: 0 Status: OK PackageFile: primirTSS_1.29.0.tar.gz PackageFileSize: 3.662 MiB