Package: primirTSS Version: 1.29.0 Command: /Library/Frameworks/R.framework/Resources/bin/R CMD INSTALL primirTSS StartedAt: 2025-11-13 15:28:55 -0500 (Thu, 13 Nov 2025) EndedAt: 2025-11-13 15:29:13 -0500 (Thu, 13 Nov 2025) EllapsedTime: 17.4 seconds RetCode: 0 Status: OK