############################################################################## ############################################################################## ### ### Running command: ### ### /Library/Frameworks/R.framework/Resources/bin/R CMD INSTALL primirTSS ### ############################################################################## ############################################################################## * installing to library ‘/Library/Frameworks/R.framework/Versions/4.6-arm64/Resources/library’ ERROR: dependencies ‘phastCons100way.UCSC.hg38’, ‘GenomicScores’ are not available for package ‘primirTSS’ Perhaps try a variation of: install.packages(c('phastCons100way.UCSC.hg38', 'GenomicScores')) * removing ‘/Library/Frameworks/R.framework/Versions/4.6-arm64/Resources/library/primirTSS’