Package: primirTSS Version: 1.29.0 Command: /Library/Frameworks/R.framework/Resources/bin/R CMD build --keep-empty-dirs --no-resave-data primirTSS StartedAt: 2025-11-13 17:22:11 -0500 (Thu, 13 Nov 2025) EndedAt: 2025-11-13 17:22:38 -0500 (Thu, 13 Nov 2025) EllapsedTime: 27.3 seconds RetCode: 0 Status: OK PackageFile: primirTSS_1.29.0.tar.gz PackageFileSize: 3.663 MiB