############################################################################## ############################################################################## ### ### Running command: ### ### /Library/Frameworks/R.framework/Resources/bin/R CMD build --keep-empty-dirs --no-resave-data primirTSS ### ############################################################################## ############################################################################## * checking for file ‘primirTSS/DESCRIPTION’ ... OK * preparing ‘primirTSS’: * checking DESCRIPTION meta-information ... OK * installing the package (it is needed to build vignettes) ----------------------------------- ERROR: dependencies ‘phastCons100way.UCSC.hg38’, ‘GenomicScores’ are not available for package ‘primirTSS’ Perhaps try a variation of: install.packages(c('phastCons100way.UCSC.hg38', 'GenomicScores')) * removing ‘/private/var/folders/r0/l4fjk6cj5xj0j3brt4bplpl40000gt/T/RtmpP2Rhiq/Rinst8fa241b59a3f/primirTSS’ ----------------------------------- ERROR: package installation failed