Package: primirTSS Version: 1.29.0 Maintainer: Pumin Li MaintainerEmail: ipumin at 163.com git_url: https://git.bioconductor.org/packages/primirTSS git_branch: devel git_last_commit: bbff91f git_last_commit_date: 2025-10-29 10:47:22 -0500 (Wed, 29 Oct 2025)