Package: preprocessCore Version: 1.73.0 Command: /home/biocbuild/bbs-3.23-bioc/R/bin/R CMD check --install=check:preprocessCore.install-out.txt --library=/home/biocbuild/bbs-3.23-bioc/R/site-library --timings preprocessCore_1.73.0.tar.gz StartedAt: 2025-11-14 02:46:45 -0500 (Fri, 14 Nov 2025) EndedAt: 2025-11-14 02:47:03 -0500 (Fri, 14 Nov 2025) EllapsedTime: 18.0 seconds RetCode: 0 Status: WARNINGS CheckDir: preprocessCore.Rcheck Warnings: 2