Package: preprocessCore Version: 1.73.0 Command: /home/biocbuild/bbs-3.23-bioc/R/bin/R CMD build --keep-empty-dirs --no-resave-data preprocessCore StartedAt: 2025-11-11 19:25:35 -0500 (Tue, 11 Nov 2025) EndedAt: 2025-11-11 19:25:36 -0500 (Tue, 11 Nov 2025) EllapsedTime: 1.0 seconds RetCode: 0 Status: OK PackageFile: preprocessCore_1.73.0.tar.gz PackageFileSize: 124.8 KiB