Package: preprocessCore Version: 1.73.0 Command: /Library/Frameworks/R.framework/Resources/bin/R CMD check --install=check:preprocessCore.install-out.txt --library=/Library/Frameworks/R.framework/Resources/library --no-vignettes --timings preprocessCore_1.73.0.tar.gz StartedAt: 2025-11-12 19:58:12 -0500 (Wed, 12 Nov 2025) EndedAt: 2025-11-12 19:58:24 -0500 (Wed, 12 Nov 2025) EllapsedTime: 12.1 seconds RetCode: 0 Status: WARNINGS CheckDir: preprocessCore.Rcheck Warnings: 2