Package: preprocessCore Version: 1.73.0 Command: /Library/Frameworks/R.framework/Resources/bin/R CMD build --keep-empty-dirs --no-resave-data preprocessCore StartedAt: 2025-11-12 16:58:51 -0500 (Wed, 12 Nov 2025) EndedAt: 2025-11-12 16:58:52 -0500 (Wed, 12 Nov 2025) EllapsedTime: 1.0 seconds RetCode: 0 Status: OK PackageFile: preprocessCore_1.73.0.tar.gz PackageFileSize: 124.8 KiB