Package: preprocessCore Version: 1.73.0 Command: rm -rf preprocessCore.buildbin-libdir && mkdir preprocessCore.buildbin-libdir && /Users/biocbuild/BBS/utils/build-universal.sh preprocessCore_1.73.0.tar.gz /Library/Frameworks/R.framework/Resources/bin/R preprocessCore.buildbin-libdir StartedAt: 2025-11-13 23:50:55 -0500 (Thu, 13 Nov 2025) EndedAt: 2025-11-13 23:51:06 -0500 (Thu, 13 Nov 2025) EllapsedTime: 11.2 seconds RetCode: 0 Status: OK PackageFile: preprocessCore_1.73.0.tgz PackageFileSize: 163.1 KiB