| Back to Build/check report for BioC 3.23: simplified long |
|
This page was generated on 2025-11-13 11:32 -0500 (Thu, 13 Nov 2025).
| Hostname | OS | Arch (*) | R version | Installed pkgs |
|---|---|---|---|---|
| kjohnson3 | macOS 13.7.7 Ventura | arm64 | R Under development (unstable) (2025-11-04 r88984) -- "Unsuffered Consequences" | 4013 |
| Click on any hostname to see more info about the system (e.g. compilers) (*) as reported by 'uname -p', except on Windows and Mac OS X | ||||
|
To the developers/maintainers of the preprocessCore package: - Allow up to 24 hours (and sometimes 48 hours) for your latest push to git@git.bioconductor.org:packages/preprocessCore.git to reflect on this report. See Troubleshooting Build Report for more information. - Use the following Renviron settings to reproduce errors and warnings. - If 'R CMD check' started to fail recently on the Linux builder(s) over a missing dependency, add the missing dependency to 'Suggests:' in your DESCRIPTION file. See Renviron.bioc for more information. |
| Package 1616/2325 | Hostname | OS / Arch | INSTALL | BUILD | CHECK | BUILD BIN | ||||||||
| preprocessCore 1.73.0 (landing page) Ben Bolstad
| kjohnson3 | macOS 13.7.7 Ventura / arm64 | OK | OK | WARNINGS | OK | ||||||||
| QUICK STATS | OS / Arch | INSTALL | BUILD | CHECK | BUILD BIN | |||||||||||||||||
| kjohnson3 | macOS 13.7.7 Ventura / arm64 |
|
|
|
| |||||||||||||||||
| Package 1/40 | Hostname | OS / Arch | INSTALL | BUILD | CHECK | BUILD BIN | ||||||||||||||||
| affy 1.89.0 (landing page) Robert D. Shear
| kjohnson3 | macOS 13.7.7 Ventura / arm64 | OK | OK | WARNINGS | OK | ||||||||||||||||
| Package 2/40 | Hostname | OS / Arch | INSTALL | BUILD | CHECK | BUILD BIN | ||||||||||||||||
| affyPLM 1.87.0 (landing page) Ben Bolstad
| kjohnson3 | macOS 13.7.7 Ventura / arm64 | OK | OK | OK | OK | ||||||||||||||||
| Package 3/40 | Hostname | OS / Arch | INSTALL | BUILD | CHECK | BUILD BIN | ||||||||||||||||
| AgiMicroRna 2.61.0 (landing page) Pedro Lopez-Romero
| kjohnson3 | macOS 13.7.7 Ventura / arm64 | ERROR | ERROR | skipped | skipped | ||||||||||||||||
| Package 4/40 | Hostname | OS / Arch | INSTALL | BUILD | CHECK | BUILD BIN | ||||||||||||||||
| BloodGen3Module 1.19.0 (landing page) Darawan Rinchai
| kjohnson3 | macOS 13.7.7 Ventura / arm64 | OK | OK | WARNINGS | OK | ||||||||||||||||
| Package 5/40 | Hostname | OS / Arch | INSTALL | BUILD | CHECK | BUILD BIN | ||||||||||||||||
| bnbc 1.33.0 (landing page) Kipper Fletez-Brant
| kjohnson3 | macOS 13.7.7 Ventura / arm64 | ERROR | ERROR | skipped | skipped | ||||||||||||||||
| Package 6/40 | Hostname | OS / Arch | INSTALL | BUILD | CHECK | BUILD BIN | ||||||||||||||||
| ChAMP 2.41.0 (landing page) Yuan Tian
| kjohnson3 | macOS 13.7.7 Ventura / arm64 | ERROR | ERROR | skipped | skipped | ||||||||||||||||
| Package 7/40 | Hostname | OS / Arch | INSTALL | BUILD | CHECK | BUILD BIN | ||||||||||||||||
| cn.farms 1.59.0 (landing page) Andreas Mitterecker
| kjohnson3 | macOS 13.7.7 Ventura / arm64 | OK | OK | OK | OK | ||||||||||||||||
| Package 8/40 | Hostname | OS / Arch | INSTALL | BUILD | CHECK | BUILD BIN | ||||||||||||||||
| CPSM 1.3.0 (landing page) Harpreet Kaur
| kjohnson3 | macOS 13.7.7 Ventura / arm64 | OK | OK | OK | OK | ||||||||||||||||
| Package 9/40 | Hostname | OS / Arch | INSTALL | BUILD | CHECK | BUILD BIN | ||||||||||||||||
| crlmm 1.69.0 (landing page) Benilton S Carvalho
| kjohnson3 | macOS 13.7.7 Ventura / arm64 | OK | OK | WARNINGS | OK | ||||||||||||||||
| Package 10/40 | Hostname | OS / Arch | INSTALL | BUILD | CHECK | BUILD BIN | ||||||||||||||||
| crupR 1.3.0 (landing page) Persia Akbari Omgba
| kjohnson3 | macOS 13.7.7 Ventura / arm64 | OK | OK | OK | OK | ||||||||||||||||
| Package 11/40 | Hostname | OS / Arch | INSTALL | BUILD | CHECK | BUILD BIN | ||||||||||||||||
| cypress 1.7.0 (landing page) Shilin Yu
| kjohnson3 | macOS 13.7.7 Ventura / arm64 | ERROR | ERROR | skipped | skipped | ||||||||||||||||
| Package 12/40 | Hostname | OS / Arch | INSTALL | BUILD | CHECK | BUILD BIN | ||||||||||||||||
| EMDomics 2.41.0 (landing page) Sadhika Malladi
| kjohnson3 | macOS 13.7.7 Ventura / arm64 | OK | OK | OK | OK | ||||||||||||||||
| Package 13/40 | Hostname | OS / Arch | INSTALL | BUILD | CHECK | BUILD BIN | ||||||||||||||||
| ExiMiR 2.53.0 (landing page) Sylvain Gubian
| kjohnson3 | macOS 13.7.7 Ventura / arm64 | OK | OK | OK | OK | ||||||||||||||||
| Package 14/40 | Hostname | OS / Arch | INSTALL | BUILD | CHECK | BUILD BIN | ||||||||||||||||
| fastLiquidAssociation 1.47.0 (landing page) Tina Gunderson
| kjohnson3 | macOS 13.7.7 Ventura / arm64 | OK | OK | WARNINGS | OK | ||||||||||||||||
| Package 15/40 | Hostname | OS / Arch | INSTALL | BUILD | CHECK | BUILD BIN | ||||||||||||||||
| frma 1.63.0 (landing page) Matthew N. McCall
| kjohnson3 | macOS 13.7.7 Ventura / arm64 | OK | OK | OK | OK | ||||||||||||||||
| Package 16/40 | Hostname | OS / Arch | INSTALL | BUILD | CHECK | BUILD BIN | ||||||||||||||||
| frmaTools 1.63.0 (landing page) Matthew N. McCall
| kjohnson3 | macOS 13.7.7 Ventura / arm64 | OK | OK | OK | OK | ||||||||||||||||
| Package 17/40 | Hostname | OS / Arch | INSTALL | BUILD | CHECK | BUILD BIN | ||||||||||||||||
| hipathia 3.11.0 (landing page) Marta R. Hidalgo
| kjohnson3 | macOS 13.7.7 Ventura / arm64 | OK | ERROR | skipped | skipped | ||||||||||||||||
| Package 18/40 | Hostname | OS / Arch | INSTALL | BUILD | CHECK | BUILD BIN | ||||||||||||||||
| iCheck 1.41.0 (landing page) Weiliang Qiu
| kjohnson3 | macOS 13.7.7 Ventura / arm64 | ERROR | ERROR | skipped | skipped | ||||||||||||||||
| Package 19/40 | Hostname | OS / Arch | INSTALL | BUILD | CHECK | BUILD BIN | ||||||||||||||||
| InPAS 2.19.0 (landing page) Jianhong Ou
| kjohnson3 | macOS 13.7.7 Ventura / arm64 | ERROR | ERROR | skipped | skipped | ||||||||||||||||
| Package 20/40 | Hostname | OS / Arch | INSTALL | BUILD | CHECK | BUILD BIN | ||||||||||||||||
| lumi 2.63.0 (landing page) Lei Huang
| kjohnson3 | macOS 13.7.7 Ventura / arm64 | ERROR | OK | ERROR | ERROR | ||||||||||||||||
| Package 21/40 | Hostname | OS / Arch | INSTALL | BUILD | CHECK | BUILD BIN | ||||||||||||||||
| MBCB 1.65.0 (landing page) Bo Yao
| kjohnson3 | macOS 13.7.7 Ventura / arm64 | OK | OK | OK | OK | ||||||||||||||||
| Package 22/40 | Hostname | OS / Arch | INSTALL | BUILD | CHECK | BUILD BIN | ||||||||||||||||
| MBQN 2.23.0 (landing page) Eva Brombacher
| kjohnson3 | macOS 13.7.7 Ventura / arm64 | OK | OK | OK | OK | ||||||||||||||||
| Package 23/40 | Hostname | OS / Arch | INSTALL | BUILD | CHECK | BUILD BIN | ||||||||||||||||
| MEDIPS 1.63.0 (landing page) Lukas Chavez
| kjohnson3 | macOS 13.7.7 Ventura / arm64 | ERROR | ERROR | skipped | skipped | ||||||||||||||||
| Package 24/40 | Hostname | OS / Arch | INSTALL | BUILD | CHECK | BUILD BIN | ||||||||||||||||
| methylclock 1.17.0 (landing page) Dolors Pelegri-Siso
| kjohnson3 | macOS 13.7.7 Ventura / arm64 | ERROR | ERROR | skipped | skipped | ||||||||||||||||
| Package 25/40 | Hostname | OS / Arch | INSTALL | BUILD | CHECK | BUILD BIN | ||||||||||||||||
| mimager 1.35.0 (landing page) Aaron Wolen
| kjohnson3 | macOS 13.7.7 Ventura / arm64 | OK | OK | OK | OK | ||||||||||||||||
| Package 26/40 | Hostname | OS / Arch | INSTALL | BUILD | CHECK | BUILD BIN | ||||||||||||||||
| minfi 1.57.0 (landing page) Kasper Daniel Hansen
| kjohnson3 | macOS 13.7.7 Ventura / arm64 | ERROR | ERROR | skipped | skipped | ||||||||||||||||
| Package 27/40 | Hostname | OS / Arch | INSTALL | BUILD | CHECK | BUILD BIN | ||||||||||||||||
| MSPrep 1.21.0 (landing page) Max McGrath
| kjohnson3 | macOS 13.7.7 Ventura / arm64 | ERROR | ERROR | skipped | skipped | ||||||||||||||||
| Package 28/40 | Hostname | OS / Arch | INSTALL | BUILD | CHECK | BUILD BIN | ||||||||||||||||
| MSstats 4.19.0 (landing page) Meena Choi
| kjohnson3 | macOS 13.7.7 Ventura / arm64 | OK | OK | WARNINGS | OK | ||||||||||||||||
| Package 29/40 | Hostname | OS / Arch | INSTALL | BUILD | CHECK | BUILD BIN | ||||||||||||||||
| NormalyzerDE 1.29.0 (landing page) Jakob Willforss
| kjohnson3 | macOS 13.7.7 Ventura / arm64 | OK | OK | WARNINGS | OK | ||||||||||||||||
| Package 30/40 | Hostname | OS / Arch | INSTALL | BUILD | CHECK | BUILD BIN | ||||||||||||||||
| oligo 1.75.0 (landing page) Benilton Carvalho
| kjohnson3 | macOS 13.7.7 Ventura / arm64 | OK | OK | OK | OK | ||||||||||||||||
| Package 31/40 | Hostname | OS / Arch | INSTALL | BUILD | CHECK | BUILD BIN | ||||||||||||||||
| PanomiR 1.15.0 (landing page) Pourya Naderi
| kjohnson3 | macOS 13.7.7 Ventura / arm64 | OK | OK | OK | OK | ||||||||||||||||
| Package 32/40 | Hostname | OS / Arch | INSTALL | BUILD | CHECK | BUILD BIN | ||||||||||||||||
| PECA 1.47.0 (landing page) Tomi Suomi
| kjohnson3 | macOS 13.7.7 Ventura / arm64 | OK | OK | OK | OK | ||||||||||||||||
| Package 33/40 | Hostname | OS / Arch | INSTALL | BUILD | CHECK | BUILD BIN | ||||||||||||||||
| PhosR 1.21.0 (landing page) Di Xiao
| kjohnson3 | macOS 13.7.7 Ventura / arm64 | OK | OK | OK | OK | ||||||||||||||||
| Package 34/40 | Hostname | OS / Arch | INSTALL | BUILD | CHECK | BUILD BIN | ||||||||||||||||
| Pigengene 1.37.0 (landing page) Habil Zare
| kjohnson3 | macOS 13.7.7 Ventura / arm64 | OK | OK | ERROR | OK | ||||||||||||||||
| Package 35/40 | Hostname | OS / Arch | INSTALL | BUILD | CHECK | BUILD BIN | ||||||||||||||||
| PRONE 1.5.0 (landing page) Lis Arend
| kjohnson3 | macOS 13.7.7 Ventura / arm64 | ERROR | ERROR | skipped | skipped | ||||||||||||||||
| Package 36/40 | Hostname | OS / Arch | INSTALL | BUILD | CHECK | BUILD BIN | ||||||||||||||||
| qPLEXanalyzer 1.29.0 (landing page) Ashley Sawle
| kjohnson3 | macOS 13.7.7 Ventura / arm64 | ERROR | ERROR | skipped | skipped | ||||||||||||||||
| Package 37/40 | Hostname | OS / Arch | INSTALL | BUILD | CHECK | BUILD BIN | ||||||||||||||||
| quantiseqr 1.19.0 (landing page) Federico Marini
| kjohnson3 | macOS 13.7.7 Ventura / arm64 | OK | OK | OK | OK | ||||||||||||||||
| Package 38/40 | Hostname | OS / Arch | INSTALL | BUILD | CHECK | BUILD BIN | ||||||||||||||||
| sesame 1.29.0 (landing page) Wanding Zhou
| kjohnson3 | macOS 13.7.7 Ventura / arm64 | OK | ERROR | skipped | skipped | ||||||||||||||||
| Package 39/40 | Hostname | OS / Arch | INSTALL | BUILD | CHECK | BUILD BIN | ||||||||||||||||
| soGGi 1.43.0 (landing page) Tom Carroll
| kjohnson3 | macOS 13.7.7 Ventura / arm64 | OK | OK | ERROR | OK | ||||||||||||||||
| Package 40/40 | Hostname | OS / Arch | INSTALL | BUILD | CHECK | BUILD BIN | ||||||||||||||||
| yarn 1.37.0 (landing page) Joseph N Paulson
| kjohnson3 | macOS 13.7.7 Ventura / arm64 | ERROR | ERROR | skipped | skipped | ||||||||||||||||