Package: preciseTAD Version: 1.21.0 Command: /home/biocbuild/bbs-3.23-bioc/R/bin/R CMD check --install=check:preciseTAD.install-out.txt --library=/home/biocbuild/bbs-3.23-bioc/R/site-library --timings preciseTAD_1.21.0.tar.gz StartedAt: 2025-11-15 02:52:45 -0500 (Sat, 15 Nov 2025) EndedAt: 2025-11-15 03:06:26 -0500 (Sat, 15 Nov 2025) EllapsedTime: 821.0 seconds RetCode: 0 Status: OK CheckDir: preciseTAD.Rcheck Warnings: 0