Package: preciseTAD Version: 1.21.0 Command: /home/biocbuild/bbs-3.23-bioc/R/bin/R CMD build --keep-empty-dirs --no-resave-data preciseTAD StartedAt: 2025-11-13 19:20:17 -0500 (Thu, 13 Nov 2025) EndedAt: 2025-11-13 19:24:07 -0500 (Thu, 13 Nov 2025) EllapsedTime: 230.2 seconds RetCode: 0 Status: OK PackageFile: preciseTAD_1.21.0.tar.gz PackageFileSize: 4.106 MiB