Package: preciseTAD Version: 1.21.0 Command: /Library/Frameworks/R.framework/Resources/bin/R CMD INSTALL preciseTAD StartedAt: 2025-11-13 15:34:53 -0500 (Thu, 13 Nov 2025) EndedAt: 2025-11-13 15:35:10 -0500 (Thu, 13 Nov 2025) EllapsedTime: 17.7 seconds RetCode: 0 Status: OK