Package: preciseTAD Version: 1.21.0 Command: /Library/Frameworks/R.framework/Resources/bin/R CMD check --install=check:preciseTAD.install-out.txt --library=/Library/Frameworks/R.framework/Resources/library --no-vignettes --timings preciseTAD_1.21.0.tar.gz StartedAt: 2025-11-14 21:46:31 -0500 (Fri, 14 Nov 2025) EndedAt: 2025-11-14 21:51:53 -0500 (Fri, 14 Nov 2025) EllapsedTime: 322.0 seconds RetCode: 0 Status: OK CheckDir: preciseTAD.Rcheck Warnings: 0