Package: preciseTAD Version: 1.21.0 Command: /Library/Frameworks/R.framework/Resources/bin/R CMD build --keep-empty-dirs --no-resave-data preciseTAD StartedAt: 2025-11-13 17:22:05 -0500 (Thu, 13 Nov 2025) EndedAt: 2025-11-13 17:24:30 -0500 (Thu, 13 Nov 2025) EllapsedTime: 144.6 seconds RetCode: 0 Status: OK PackageFile: preciseTAD_1.21.0.tar.gz PackageFileSize: 4.073 MiB