Package: preciseTAD Version: 1.21.0 Command: rm -rf preciseTAD.buildbin-libdir && mkdir preciseTAD.buildbin-libdir && /Users/biocbuild/BBS/utils/build-universal.sh preciseTAD_1.21.0.tar.gz /Library/Frameworks/R.framework/Resources/bin/R preciseTAD.buildbin-libdir StartedAt: 2025-11-12 21:06:41 -0500 (Wed, 12 Nov 2025) EndedAt: 2025-11-12 21:07:04 -0500 (Wed, 12 Nov 2025) EllapsedTime: 22.6 seconds RetCode: 0 Status: OK PackageFile: preciseTAD_1.21.0.tgz PackageFileSize: 4.775 MiB