Package: pram Version: 1.27.0 Command: /Library/Frameworks/R.framework/Resources/bin/R CMD build --keep-empty-dirs --no-resave-data pram StartedAt: 2025-11-14 17:18:54 -0500 (Fri, 14 Nov 2025) EndedAt: 2025-11-14 17:19:14 -0500 (Fri, 14 Nov 2025) EllapsedTime: 20.2 seconds RetCode: 0 Status: OK PackageFile: pram_1.27.0.tar.gz PackageFileSize: 2.666 MiB