Package: pram Version: 1.27.0 Command: rm -rf pram.buildbin-libdir && mkdir pram.buildbin-libdir && /Users/biocbuild/BBS/utils/build-universal.sh pram_1.27.0.tar.gz /Library/Frameworks/R.framework/Resources/bin/R pram.buildbin-libdir StartedAt: 2025-11-14 23:45:59 -0500 (Fri, 14 Nov 2025) EndedAt: 2025-11-14 23:46:15 -0500 (Fri, 14 Nov 2025) EllapsedTime: 16.4 seconds RetCode: 0 Status: OK PackageFile: pram_1.27.0.tgz PackageFileSize: 2.495 MiB