Package: pram Version: 1.27.0 Maintainer: Peng Liu MaintainerEmail: pliu55.wisc+bioconductor at gmail.com git_url: https://git.bioconductor.org/packages/pram git_branch: devel git_last_commit: e034cdc git_last_commit_date: 2025-10-29 10:50:34 -0500 (Wed, 29 Oct 2025)