Package: powerTCR Version: 1.31.0 Command: /Library/Frameworks/R.framework/Resources/bin/R CMD INSTALL powerTCR StartedAt: 2025-11-13 15:03:44 -0500 (Thu, 13 Nov 2025) EndedAt: 2025-11-13 15:04:03 -0500 (Thu, 13 Nov 2025) EllapsedTime: 19.4 seconds RetCode: 0 Status: OK