Package: powerTCR Version: 1.31.0 Command: /Library/Frameworks/R.framework/Resources/bin/R CMD build --keep-empty-dirs --no-resave-data powerTCR StartedAt: 2025-11-13 17:21:38 -0500 (Thu, 13 Nov 2025) EndedAt: 2025-11-13 17:21:49 -0500 (Thu, 13 Nov 2025) EllapsedTime: 11.1 seconds RetCode: 0 Status: OK PackageFile: powerTCR_1.31.0.tar.gz PackageFileSize: 385.4 KiB