Package: powerTCR Version: 1.31.0 Maintainer: Hillary Koch MaintainerEmail: hillary.koch01 at gmail.com git_url: https://git.bioconductor.org/packages/powerTCR git_branch: devel git_last_commit: 3cc7131 git_last_commit_date: 2025-10-29 10:43:11 -0500 (Wed, 29 Oct 2025)