Package: podkat Version: 1.43.0 Command: /home/biocbuild/bbs-3.23-bioc/R/bin/R CMD INSTALL podkat StartedAt: 2025-11-13 15:28:40 -0500 (Thu, 13 Nov 2025) EndedAt: 2025-11-13 15:29:54 -0500 (Thu, 13 Nov 2025) EllapsedTime: 74.6 seconds RetCode: 0 Status: OK