Package: podkat Version: 1.43.0 Command: /Library/Frameworks/R.framework/Resources/bin/R CMD build --keep-empty-dirs --no-resave-data podkat StartedAt: 2025-11-12 16:58:05 -0500 (Wed, 12 Nov 2025) EndedAt: 2025-11-12 16:58:58 -0500 (Wed, 12 Nov 2025) EllapsedTime: 52.6 seconds RetCode: 1 Status: ERROR PackageFile: None PackageFileSize: NA