Package: podkat Version: 1.43.0 Maintainer: Ulrich Bodenhofer MaintainerEmail: ulrich at bodenhofer.com git_url: https://git.bioconductor.org/packages/podkat git_branch: devel git_last_commit: d216a17 git_last_commit_date: 2025-10-29 10:24:59 -0500 (Wed, 29 Oct 2025)