Package: pmm Version: 1.43.0 Command: /home/biocbuild/bbs-3.23-bioc/R/bin/R CMD INSTALL pmm StartedAt: 2025-11-13 15:10:52 -0500 (Thu, 13 Nov 2025) EndedAt: 2025-11-13 15:11:07 -0500 (Thu, 13 Nov 2025) EllapsedTime: 14.6 seconds RetCode: 0 Status: OK