Package: pmm Version: 1.43.0 Command: /home/biocbuild/bbs-3.23-bioc/R/bin/R CMD build --keep-empty-dirs --no-resave-data pmm StartedAt: 2025-11-13 19:17:49 -0500 (Thu, 13 Nov 2025) EndedAt: 2025-11-13 19:18:12 -0500 (Thu, 13 Nov 2025) EllapsedTime: 23.0 seconds RetCode: 0 Status: OK PackageFile: pmm_1.43.0.tar.gz PackageFileSize: 776.6 KiB