Package: pmm Version: 1.43.0 Command: /Library/Frameworks/R.framework/Resources/bin/R CMD build --keep-empty-dirs --no-resave-data pmm StartedAt: 2025-11-12 16:57:55 -0500 (Wed, 12 Nov 2025) EndedAt: 2025-11-12 16:58:06 -0500 (Wed, 12 Nov 2025) EllapsedTime: 11.1 seconds RetCode: 0 Status: OK PackageFile: pmm_1.43.0.tar.gz PackageFileSize: 776.4 KiB