Package: plyranges Version: 1.31.1 Command: /home/biocbuild/bbs-3.23-bioc/R/bin/R CMD build --keep-empty-dirs --no-resave-data plyranges StartedAt: 2025-11-14 19:17:50 -0500 (Fri, 14 Nov 2025) EndedAt: 2025-11-14 19:18:45 -0500 (Fri, 14 Nov 2025) EllapsedTime: 54.1 seconds RetCode: 0 Status: OK PackageFile: plyranges_1.31.1.tar.gz PackageFileSize: 1.295 MiB