Package: plyranges Version: 1.31.1 Maintainer: Michael Love MaintainerEmail: michaelisaiahlove at gmail.com git_url: https://git.bioconductor.org/packages/plyranges git_branch: devel git_last_commit: 40182e8 git_last_commit_date: 2025-11-07 08:54:55 -0500 (Fri, 07 Nov 2025)