Package: plotgardener Version: 1.17.0 Command: /home/biocbuild/bbs-3.23-bioc/R/bin/R CMD INSTALL plotgardener StartedAt: 2025-11-13 15:33:40 -0500 (Thu, 13 Nov 2025) EndedAt: 2025-11-13 15:34:32 -0500 (Thu, 13 Nov 2025) EllapsedTime: 51.2 seconds RetCode: 0 Status: OK