Package: plotgardener Version: 1.17.0 Command: /home/biocbuild/bbs-3.23-bioc/R/bin/R CMD build --keep-empty-dirs --no-resave-data plotgardener StartedAt: 2025-11-13 19:17:17 -0500 (Thu, 13 Nov 2025) EndedAt: 2025-11-13 19:18:27 -0500 (Thu, 13 Nov 2025) EllapsedTime: 70.1 seconds RetCode: 0 Status: OK PackageFile: plotgardener_1.17.0.tar.gz PackageFileSize: 2.732 MiB