Package: plotgardener Version: 1.17.0 Command: /Library/Frameworks/R.framework/Resources/bin/R CMD INSTALL plotgardener StartedAt: 2025-11-13 15:19:43 -0500 (Thu, 13 Nov 2025) EndedAt: 2025-11-13 15:20:02 -0500 (Thu, 13 Nov 2025) EllapsedTime: 18.9 seconds RetCode: 0 Status: OK