Package: plotgardener Version: 1.17.0 Command: /Library/Frameworks/R.framework/Resources/bin/R CMD build --keep-empty-dirs --no-resave-data plotgardener StartedAt: 2025-11-13 17:20:51 -0500 (Thu, 13 Nov 2025) EndedAt: 2025-11-13 17:21:21 -0500 (Thu, 13 Nov 2025) EllapsedTime: 29.4 seconds RetCode: 0 Status: OK PackageFile: plotgardener_1.17.0.tar.gz PackageFileSize: 2.85 MiB